Workbook
Name 治験区分: #REF!
Name 治験区分: #REF!
Name 治験区分: #REF!

Sheet 1.説明事項 治験情報
A1: 1.説明事項
A3: ■ | B3: 本雛形ファイルには以下の文書が含まれています。
B5: 1. | C5: 説明事項 | E5: :各文書作成時の注意事項、基本情報入力欄
B6: 2. | C6: 被験者への支払いに関する資料
B7: 3. | C7: 被験者への支払いに関する資料（留意事項）
B8: 4. | C8: 被験者への支払いに関する資料（記載例）
B9: 5. | C9: 治験概要
B10: 6. | C10: 治験概要（記載例）
B11: 7. | C11: 治験通知
B12: 8. | C12: 治験通知（記載例）
B13: 9. | C13: 負担軽減費振込確認表
B14: 10. | C14: 負担軽減費 振込口座
B16: ※ 各文書は項目名の色別に以下区分の担当者で確認・作成してください
C17: 赤字項目：担当モニター
C18: 緑字項目：担当モニター および 担当CRC
C19: 青字項目：担当CRC
A21: ■ | B21: 文書作成の前に以下へ治験情報を入力ください
C22: 記載項目が他文書へ引用されます
A23: 【共通情報】 | D23: ・ 担当モニター様にて記載・更新ください
C24: ※ 更新時は担当CRC・事務局へメール添付にてご提供ください
C25: 整理番号
C26: 治験薬 | D26: 被験薬
D27: 対照薬
C28: 治験使用薬（治験薬以外）
C29: 治験課題名
C30: 治験実施計画書番号
C31: 責任医師名
C32: 実施診療科
C33: 治験依頼者 | D33: 名称 | F33: ← | G33: 国内管理人がある場合は
D34: 所在地 | G34: 「治験依頼者名（国内管理人：国内管理人名）」
C35: 請求書宛名 | G35: と入力してください
C36: 請求書送付先 | D36: 担当者氏名
D37: 担当者所属
D38: 住所
D39: 電話番号
D40: 電子メール
A42: 【被験者個別情報】 | D42: ・ 担当CRCにて記載・更新ください
C43: 担当医師
C44: 担当CRC（姓名）
C45: ※ 「担当CRC」は以下の通り記載する メイン担当者名、協力者1、協力者2（協力者が多い場合はメイン以外の代表2名まで） （SMO CRCは「メイン担当者名（社名）」とする）
C46: 担当CRC 連絡先
C47: ※ 「担当CRC 連絡先」は以下の通り記載する 院内CRC：担当CRC医療用携帯番号 SMOCRC：担当者直通の携帯番号
C48: 被験者情報 | D48: ふりがな
D49: 氏名
D50: カルテID
D51: 識別番号
C52: ※ 「被験者識別番号」は複数ある場合全てを記載する ※ 被験者情報を入力したファイルはパスワード設定をする
A54: ■ | B54: PDF化、印刷の際は目的のシート以外を含めないようにご注意ください

Sheet 2.被験者への支払いに関する資料
H1: 作成日：
A2: 被験者への支払いに関する資料
B3: 実施医療機関 | E3: 藤田医科大学病院 | G3: 整理番号 | H3: ='1.説明事項 治験情報'!E25 -> 0
B4: 実施診療科 | E4: ='1.説明事項 治験情報'!E32 -> 0 | G4: 責任医師 | H4: ='1.説明事項 治験情報'!E31 -> 0
B5: 治験依頼者 | E5: ='1.説明事項 治験情報'!E33 -> 0 | G5: 治験実施計画書番号 | H5: ='1.説明事項 治験情報'!E30 -> 0
B6: 治験薬 | D6: 被験薬 | E6: ='1.説明事項 治験情報'!E26 -> 0
D7: 対照薬 | E7: ='1.説明事項 治験情報'!E27 -> 0
B8: 治験使用薬（治験薬以外） | E8: ='1.説明事項 治験情報'!E28 -> 0
B9: 治験課題名 | E9: ='1.説明事項 治験情報'!E29 -> 0
A11: 1. 被験者への負担軽減費の支払いについて
B12: 被験者が治験参加により生じる負担（来院の負担、治験規定上の制限、時間的拘束、経済的負担）を軽 減
B13: する目的で次の費用を治験依頼者が負担することとする。
B14: 治験のための来院 | F14: 来院1回につき 10,000 円 / 入院1回につき 10,000 円
B16: 治験実施計画書で規定の来院回数 | F16: 回
B17: 上記規定外の支払い対象となる範囲
B18: 支払い対象外となる範囲
A20: 2. 治験依頼者の医療費負担について
B21: 各項目について、治験依頼者の費用負担分を以下のとおりとする。
B22: ＜期間区分＞
B23: 期間 | C23: 開始日 | G23: 終了日
B24: A
B25: B
B26: C
B28: 保険外併用療養費制度適応期間
B29: ＜外来、入院での実施事項＞
B30: 期間 | C30: 負担範囲 | D30: 項目 | E30: 特記事項
B31: B | C31: 全額 | D31: 検査・ 画像診断費用
D32: 同種同効薬
D33: 被験薬、治験使用薬および関連する薬剤
C34: 全額 | D34: 入院費用
C35: 全額 | D35: その他
B37: 保険外併用療養費制度適応期間外
B38: ＜外来での実施事項＞
B39: 期間 | C39: 負担範囲 | D39: 項目 | E39: 特記事項
B40: A,C | C40: 全額 | D40: 治験規定来院実施事項
C41: 全額 | D41: その他
B42: ＜入院での実施事項＞
B43: 期間 | C43: 負担範囲 | D43: 項目 | E43: 特記事項
B44: A,C | C44: 全額 | D44: 治験規定来院実施事項
C45: 全額 | D45: 入院費用
C46: 全額 | D46: その他
A48: 3. その他特記事項

Sheet 3.被験者への支払いに関する資料(留意事項)
A1: 「被験者への支払いに関する資料」作成時留意事項
A2: 項目 | B2: 留意事項
A3: 基本事項 | B3: 原則「記載例」の内容で作成ください。 基本的にどの期間においても被験者負担分の一部を依頼者様、残りの一部を患者様に請求することは出来かねます。 そのため全額もしくは被験者負担分すべて（＝該当項目と同日（同入院期間）の保険診療分の被検者負担分）をご負担いただくかのどちらかでお願いいたします。
A4: 費用概要 | B4: 治験通知期間： 外来で実施の場合）「被験者負担分」もしくは「全額」いずれかを選択ください。 入院で実施の場合）「全額」ご負担ください。 原則混在不可となります。 全額＝1点10円課税 被験者負担分＝患者さんの保険診療自己負担分
B5: 治験期間：治験実施に伴い発生する費用は全額負担となります。
A6: 指導料 | B6: ・悪性腫瘍特異物質治療管理料（抗がん剤を投与する患者さんに対し発生します） ・放射線診療料（放射線治療を行う患者さんに対し発生します）
A7: 血液検査・尿検査 | B7: 包括項目は同日実施の場合、項目毎の切り分け請求を不可とします。
A8: 画像検査 | B8: 本院で実施の検査・画像診断に係る費用 ・撮像に使用した造影剤、診断料、各管理加算 等を含む
A9: 薬剤関連費用 | B9: 同種同効薬 以下費用を含む ・調剤料、処方料、薬剤料、特定保険医療材料、処方箋料、調剤技術基本料、注射技術料、薬剤料、無菌製剤処理料、薬剤管理指導料等
B10: 被験薬、治験使用薬：調整及び投与に伴い発生する以下費用を含む ・調剤料、処方料、薬剤料、特定保険医療材料、処方箋料、調剤技術基本料、注射技術料、薬剤料、無菌製剤処理料、薬剤管理指導料等 ・抗がん剤：悪性腫瘍特異物質治療管理料 ・外来腫瘍化学療法に係る費用（外来腫瘍化学療法診療料）等 ※医療情報取得加算及び外来・在宅ベースアップ評価料（Ⅰ）含む ・がん患者指導管理に係る費用（がん患者指導管理料） ・薬剤の容器代
B11: 被験薬、治験使用薬に関連する薬剤において原則依頼者負担となる費用 ・被験薬および治験使用薬が注射剤の場合、同日投与の注射剤の費用 例）ドセタキセル：支持療法で投与のグラニセトロン、デキサートの薬剤費用及び投与に伴い発生する費用 被験薬および治験使用薬の溶解調整用、投与の前後で使用する生理食塩水の費用 ※ 担当CRCは被験薬および治験使用薬が、注射剤かつ既承認薬の場合 病院HPの「外来化学療法登録レジメン一覧」でレジメンを確認し該当薬剤の有無をヒアリング前に確認する ・治験使用薬に含まれないが一般診療上、被験薬および治験使用薬投与に伴い必要とされる薬剤
A12: 入院費用 | B12: 入院費用として次の費用が該当する ・入院基本料、入院基本料加算、特定入院料、特掲診療料を含む診療費用 ・食事代 ・差額ベッド代（特別室を除く） ※差額ベッド代の金額詳細は病院HPをご確認ください。 ※入院日数の上限については、システム上、請求書を分割して作成する必要があり、明細書と領収書の内容に 差異が生じ、被験者へご迷惑をおかけする可能性があるため、設定不可とさせていただきます。 ※食事代、差額ベッド代の上限金額の設定は不可です。 ※差額ベッド代は、治験特有の項目を実施する都合上または無料床に空きが無い場合等 やむを得ない事情による場合、依頼者様にご負担いただきます。 治験特有の項目で入院が必要な場合は、ヒアリング時にお伝えください。 ※病衣代について、当院は被験者に全額ご負担いただきます。 ※治験薬投与期間の入院が投与期間前・後にまたがり一連の入院となる場合、治験薬投与前・後に ついても、治験薬投与期間と同様の請求方法に準じて請求させていただきます。 ※詳細は入院医事課へご確認ください。

Sheet 4.被験者への支払いに関する資料 (記載例) 
H1: 作成日： | I1: 46113
A2: 被験者への支払いに関する資料
B3: 実施医療機関 | E3: 藤田医科大学病院 | G3: 整理番号 | H3: F-123
B4: 実施診療科 | E4: 呼吸器内科・アレルギー科 | G4: 責任医師 | H4: 藤田 一郎
B5: 治験依頼者 | E5: xxxx株式会社 | G5: 治験実施計画書番号 | H5: 1245678
B6: 治験薬 | D6: 被験薬 | E6: FJT-01
D7: 対照薬 | E7: FJT0005
B8: 治験使用薬（治験薬以外） | E8: ×××・・・
B9: 治験課題名 | E9: 治験課題名
A11: 1. 被験者への負担軽減費の支払いについて
B12: 被験者が治験参加により生じる負担（来院の負担、治験規定上の制限、時間的拘束、経済的負担）を軽 減
B13: する目的で次の費用を治験依頼者が負担することとする。
B14: 治験のための来院 | F14: 来院1回につき 10,000 円 / 入院1回につき 10,000 円
F15: 尚、介護者が治験評価のために来院を行う場合 介護者の来院1回につき 10,000 円
B16: 治験実施計画書で規定の来院回数 | F16: 24 回
B17: 上記規定外の支払い対象となる範囲 | F17: ・有害事象発現等の安全性確認による来院 ・その他項目があれば追記ください
B18: 支払い対象外となる範囲 | F18: ・同意説明および同意のためのみの来院 等
A20: 2. 治験依頼者の医療費負担について
B21: 各項目について、治験依頼者の費用負担分を以下のとおりとする。
B22: ＜期間区分＞
B23: 期間 | C23: 開始日 | G23: 終了日
B24: A | C24: 同意取得日 | G24: 治験薬投与開始前日
B25: B | C25: 治験薬投与開始日 | G25: 治験薬投与終了日又は投与中止判断日
B26: C | C26: 治験薬投与終了日の翌日又は治験薬投与中止判断日翌日 | G26: 追跡調査終了日
B28: 保険外併用療養費制度適応期間
B29: ＜外来、入院での実施事項＞
B30: 期間 | C30: 負担範囲 | D30: 項目 | E30: 特記事項
B31: B | C31: 全額 | D31: 検査・ 画像診断費用 | E31: 本院で実施の検査・画像診断に係る費用 ・撮像に使用した造影剤、診断料、各管理加算 等を含む
D32: 同種同効薬 | E32: 同種同効薬剤（薬剤名）（調剤料、処方料、薬剤料、特定保険医療材料、処方箋料、調剤技術基本料、注射技術料、薬剤料、無菌製剤処理料、薬剤管理指導料 等含む）および薬剤の容器代
D33: 被験薬、治験使用薬および関連する薬剤 | E33: 治験使用薬の調整及び投与に伴い必要となる以下費用 ・調剤料、処方料、薬剤料、特定保険医療材料、処方箋料、調剤技術基本料、注射技術料、薬剤料、無菌製剤処理料、薬剤管理指導料 等 ・抗がん剤治療に係る費用（悪性腫瘍特異物質治療管理料） ・外来腫瘍化学療法に係る費用（外来腫瘍化学療法診療料） ・がん患者指導管理に係る費用（がん患者指導管理料） ・薬剤の容器代 ＜治験実施計画書で規定された治療の内以下費用＞ ・前投与薬剤（薬剤名）を使用した場合の薬剤費及び投与に関わる費用 ・支持療法（薬剤名）で使用した場合の薬剤費及び投与に関わる費用 ・免疫抑制剤等（薬剤名）を使用した場合の薬剤費及び投与に関わる費用
C34: 全額 | D34: 入院費用 | E34: ・治験実施計画書で規定された●●のための入院期間全ての保険診療費用 ・食事代 ・差額ベッド代
C35: 全額 | D35: その他
B37: 保険外併用療養費制度適応期間外
B38: ＜外来での実施事項＞
B39: 期間 | C39: 負担範囲 | D39: 項目 | E39: 特記事項
B40: A,C | C40: 全額 | D40: 治験規定来院実施事項 | E40: 治験での規定来院日当日にかかる全ての保険診療費用（診察料、検査・画像診断料、薬剤費等を含む）
C41: 全額 | D41: その他
B42: ＜入院での実施事項＞
B43: 期間 | C43: 負担範囲 | D43: 項目 | E43: 特記事項
B44: A,C | C44: 全額 | D44: 治験規定来院実施事項 | E44: ・治験実施計画書で規定の項目の診療費用（検査・画像診断料、薬剤費等を含む） ただし、採血・採尿に関して包括項目は同日実施の場合、項目ごとの切り分け不可となるため治験依頼者負担とする
C45: 全額 | D45: 入院費用 | E45: ・治験実施計画書で規定された●●のための入院期間全ての診療費用 ・食事代 ・差額ベッド代
C46: 全額 | D46: その他
A48: 3. その他特記事項

Sheet 5.治験概要
U1: 西暦
H3: 治 験 概 要 | M3: （ | N3: □ | O3: 新規 | R3: □ | S3: 変更 | U3: ）
A5: 整理番号 | G5: ='1.説明事項 治験情報'!E25 -> 0 | J5: 被験者識別番号 | O5: ='1.説明事項 治験情報'!E51 -> 0
A6: 被験薬 | G6: ='1.説明事項 治験情報'!E26 -> 0
A9: 【 当該患者および担当者情報 】
A10: ふりがな | G10: ='1.説明事項 治験情報'!E48 -> 0 | O10: 診療科名 | S10: ='1.説明事項 治験情報'!E32 -> 0
A11: 被験者名 | G11: ='1.説明事項 治験情報'!E49 -> 0
A12: 担当医師 | G12: ='1.説明事項 治験情報'!E43 -> 0 | O12: 被験者ID | S12: ='1.説明事項 治験情報'!E50 -> 0
A13: 担当CRC | G13: ='1.説明事項 治験情報'!E44 -> 0 | O13: 担当CRC連絡先 | S13: ='1.説明事項 治験情報'!E46 -> 0
A15: 【 治験情報 】
A16: 予定される効能効果
A17: 用法
A19: 開発段階 | I19: 相 | J19: 治験区分
A20: 契約年月日
A22: 【 治験依頼者の名称・所在地及び連絡先 】 | K22: ■ 企業治験
A23: 治験依頼者 | G23: 名称 | I23: ='1.説明事項 治験情報'!E33 -> 0
G24: 所在地 | I24: ='1.説明事項 治験情報'!E34 -> 0
A25: 請求書情報 | G25: 請求書宛名 | I25: ='1.説明事項 治験情報'!E35 -> 0
G26: 送付先 | I26: 担当者氏名 | L26: : | M26: ='1.説明事項 治験情報'!E36 -> 0
I27: 担当者所属 | L27: : | M27: ='1.説明事項 治験情報'!E37 -> 0
I28: 住所 | L28: : | M28: ='1.説明事項 治験情報'!E38 -> 0
I29: tel: | K29: ='1.説明事項 治験情報'!E39 -> 0 | O29: e-mail address: | T29: ='1.説明事項 治験情報'!E40 -> 0
A31: 【 当該患者における治験実施期間 】
A32: 治験実施期間 | E32: #1 | G32: 治験薬（機器） 開始日
G33: 治験薬（機器） 終了日 | X33: （ | AA33: ）
A35: 【 治験依頼者の費用負担に関する情報 】
A36: 検査・画像診断費用 | G36: #1と異なる場合その期間： | T36: ～
A37: 同種同効薬 | G37: □ 有 ■ 無 | J37: ※ 「有」の場合は下欄へ詳細を記載
G38: #1と異なる場合その期間： | T38: ～
G39: 該当薬剤：
A40: 被験薬、治験使用薬 | G40: □ 有 ■ 無 | J40: ※ 「有」の場合は下欄へ詳細を記載
A41: および関連する薬剤
A42: その他 | G42: □ 有 ■ 無 | J42: ※ 「有」の場合は下欄へ詳細を記載
A44: 入院費用 | G44: □ 有 ■ 無 | J44: ※ 「有」の場合は下欄へ詳細を記載
A47: 【 備考 】

Sheet 6.治験概要 (記載例)
U1: 西暦 | W1: 46113
H3: 治 験 概 要 | M3: （ | N3: ■ | O3: 新規 | R3: □ | S3: 変更 | U3: ）
A5: 整理番号 | G5: F-123 | J5: 被験者識別番号 | O5: FHU-01（SCR0001）
A6: 被験薬 | G6: FJT-01
A8: 【 当該患者および担当者情報 】
A9: ふりがな | G9: とよあけ たろう | O9: 診療科名 | S9: 呼吸器内科・アレルギー科
A10: 被験者名 | G10: 豊明 太郎
A11: 担当医師 | G11: 藤田一郎 | O11: 被験者ID | S11: 1234 | W11: - | X11: 5678
A12: 担当CRC | G12: 藤田花子（藤田次郎、藤田三郎） | O12: 担当CRC連絡先 | S12: 123-4567-8900（内線2139）
A14: 【 治験情報 】
A15: 予定される効能効果 | G15: 予定される効能効果を記載
A16: 用法 | G16: 治験薬及び/または被験薬の用法用量を記載
A18: 開発段階 | G18: 3 | I18: 相 | J18: 治験区分 | M18: １. 新有効成分含有医薬品
A19: 契約年月日 | G19: 45272
A21: 【 治験依頼者の名称・所在地及び連絡先 】 | L21: ■ 企業治験
A22: 治験依頼者 | G22: 名称 | I22: xxxx株式会社
G23: 所在地 | I23: 愛知県豊明市沓掛町田楽ヶ窪１-98
A24: 請求書情報 | G24: 請求書宛名 | I24: xxxx株式会社
G25: 送付先 | I25: 担当者氏名 | L25: : | M25: 〇〇 〇〇
I26: 担当者所属 | L26: : | M26: 治験・臨床研究支援センター
I27: 住所 | L27: : | M27: 愛知県豊明市沓掛町田楽ヶ窪１-98
I28: tel: | K28: 0562-93-2139 | O28: e-mail address: | T28: 〇〇〇@fujita-hu.ac.jp
A30: 【 当該患者における治験実施期間 】
A31: 治験実施期間 | E31: #1 | G31: 治験薬（機器） 開始日 | N31: 45272
G32: 治験薬（機器） 終了日 | N32: 45272 | X32: （ | Y32: 予定 | AA32: ）
A34: 【 治験依頼者の費用負担に関する情報 】
A35: 検査・画像診断料 | G35: #1と異なる場合その期間： | T35: ～
A37: 同種同効薬 | G37: □ 有 ■ 無 | J37: ※ 「有」の場合は下欄へ詳細を記載
G38: #1と異なる場合その期間： | T38: ～
G39: 該当薬剤： | I39: 該当患者において該当する薬剤があれば薬剤名を記載
A40: 被験薬、治験使用薬 | G40: ■ 有 □ 無 | J40: ※ 「有」の場合は下欄へ詳細を記載
A41: および関連する薬剤 | G41: 治験使用薬の調整及び投与に伴い必要となる以下費用 ・調剤料、処方料、薬剤料、特定保険医療材料、処方箋料、調剤技術基本料、注射技術料、薬剤料、無菌製剤処理料、薬剤管理指導料 等 ・抗がん剤治療に係る費用（悪性腫瘍特異物質治療管理料） ・外来腫瘍化学療法に係る費用（外来腫瘍化学療法診療料） ・薬剤の容器代 ＜治験実施計画書で規定された治療の内以下費用＞ ・前投与薬剤（薬剤名）を使用した場合の薬剤費及び投与に関わる費用 ・支持療法（薬剤名）で使用した場合の薬剤費及び投与に関わる費用 ・免疫抑制剤等（薬剤名）を使用した場合の薬剤費及び投与に関わる費用
A42: その他 | G42: □ 有 ■ 無 | J42: ※ 「有」の場合は下欄へ詳細を記載
A44: 治験入院 | G44: ■ 有 □ 無 | J44: ※ 「有」の場合は下欄へ詳細を記載
G45: ・治験実施計画書で規定された●●のための入院期間全ての費用（但し病衣代は除く） ・差額ベッド代
A47: 【 備考 】

Sheet 7.治験通知
U1: 西暦
A3: 治 験 通 知
A5: 整理番号 | G5: ='1.説明事項 治験情報'!E25 -> 0 | J5: 被験者識別番号 | O5: ='1.説明事項 治験情報'!E51 -> 0
A6: 被験薬 | G6: ='1.説明事項 治験情報'!E26 -> 0
A9: 【 当該患者および担当者情報 】
A10: ふりがな | G10: ='1.説明事項 治験情報'!E48 -> 0 | O10: 診療科名 | S10: ='1.説明事項 治験情報'!E32 -> 0
A11: 被験者名 | G11: ='1.説明事項 治験情報'!E49 -> 0
A12: 担当医師 | G12: ='1.説明事項 治験情報'!E43 -> 0 | O12: 被験者ID | S12: ='1.説明事項 治験情報'!E50 -> 0
A13: 担当CRC | G13: ='1.説明事項 治験情報'!E44 -> 0 | O13: 担当CRC連絡先 | S13: ='1.説明事項 治験情報'!E46 -> 0
A15: 【 治験依頼者の名称・所在地及び連絡先 】
A16: 治験依頼者 | G16: 名称 | I16: ='1.説明事項 治験情報'!E33 -> 0
G17: 所在地 | I17: ='1.説明事項 治験情報'!E34 -> 0
A18: 請求書情報 | G18: 請求書宛名 | I18: ='1.説明事項 治験情報'!E35 -> 0
G19: 送付先 | I19: 担当者氏名 | L19: : | M19: ='1.説明事項 治験情報'!E36 -> 0
I20: 担当者所属 | L20: : | M20: ='1.説明事項 治験情報'!E37 -> 0
I21: 住所 | L21: : | M21: ='1.説明事項 治験情報'!E38 -> 0
I22: tel: | K22: ='1.説明事項 治験情報'!E39 -> 0 | O22: e-mail address: | T22: ='1.説明事項 治験情報'!E40 -> 0
A24: 【 当該患者における治験通知適用情報 】
A25: 対象日 | W25: ■ 外来 □ 入院
A26: 発生事由 | G26: ■ 有害事象 | L26: その他の詳細：
A28: 依頼者の負担割合詳細
A29: 負担範囲 | D29: 項目 | H29: 特記事項

Sheet 8.治験通知 (記載例)
U1: 西暦 | W1: 45902
A3: 治 験 通 知
A5: 整理番号 | G5: 1234 | J5: 被験者識別番号 | O5: FHU-01（SCR0001）
A6: 被験薬 | G6: FJT-01
A9: 【 当該患者および担当者情報 】
A10: ふりがな | G10: とよあけ たろう | O10: 診療科名 | S10: 呼吸器内科・アレルギー科
A11: 被験者名 | G11: 豊明 太郎
A12: 担当医師 | G12: 藤田一郎 | O12: 被験者ID | S12: 1234 | W12: - | X12: 567
A13: 担当CRC | G13: 藤田花子（藤田次郎、藤田三郎） | O13: 担当CRC連絡先 | S13: 123-4567-8900（内線2139）
A15: 【 治験依頼者の名称・所在地及び連絡先 】
A16: 治験依頼者 | G16: 名称 | I16: xxxx株式会社
G17: 所在地 | I17: 愛知県豊明市沓掛町田楽ヶ窪１-98
A18: 請求書情報 | G18: 請求書宛名 | I18: xxxx株式会社
G19: 送付先 | I19: 担当者氏名 | L19: : | M19: 〇〇 〇〇
I20: 担当者所属 | L20: : | M20: 治験・臨床研究支援センター
I21: 住所 | L21: : | M21: 愛知県豊明市沓掛町田楽ヶ窪１-98
I22: tel: | K22: 0562-93-2139 | O22: e-mail address: | T22: 〇〇〇@fujita-hu.ac.jp
A24: 【 当該患者における治験通知適用情報 】
A25: 対象日 | G25: 45182 | W25: ■ 外来 □ 入院
A26: 発生事由 | G26: ■ 有害事象 | L26: その他の詳細：
A28: 依頼者の負担割合詳細
A29: 負担範囲 | D29: 項目 | H29: 特記事項

Sheet 9.負担軽減費振込確認表
AP1: 整理番号 | AW1: ='1.説明事項 治験情報'!E25 -> 0
B4: 負担軽減費振込確認表
B6: 患者ID | I6: ='1.説明事項 治験情報'!E50 -> 0 | V6: 被験者識別コード | AC6: ='1.説明事項 治験情報'!E51 -> 0 | AP6: 診療科 | AW6: ='1.説明事項 治験情報'!E32 -> 0
B7: 患者氏名 | I7: ='1.説明事項 治験情報'!E49 -> 0 | V7: 被験薬記号 | AC7: ='1.説明事項 治験情報'!E26 -> 0 | AP7: 治験依頼者 | AW7: ='1.説明事項 治験情報'!E33 -> 0
B9: 回 数 | D9: 来院/退院日 | L9: 患者確認 （サイン又は印） | U9: 確認 | Y9: 備考 | AF9: 回 数 | AH9: 来院/退院日 | AP9: 患者確認 （サイン又は印） | AY9: 確認 | BC9: 備考
B10: 1 | D10: 20 / / | AF10: 21 | AH10: 20 / /
B11: 2 | D11: 20 / / | AF11: 22 | AH11: 20 / /
B12: 3 | D12: 20 / / | AF12: 23 | AH12: 20 / /
B13: 4 | D13: 20 / / | AF13: 24 | AH13: 20 / /
B14: 5 | D14: 20 / / | AF14: 25 | AH14: 20 / /
B15: 6 | D15: 20 / / | AF15: 26 | AH15: 20 / /
B16: 7 | D16: 20 / / | AF16: 27 | AH16: 20 / /
B17: 8 | D17: 20 / / | AF17: 28 | AH17: 20 / /
B18: 9 | D18: 20 / / | AF18: 29 | AH18: 20 / /
B19: 10 | D19: 20 / / | AF19: 30 | AH19: 20 / /
B20: 11 | D20: 20 / / | AF20: 31 | AH20: 20 / /
B21: 12 | D21: 20 / / | AF21: 32 | AH21: 20 / /
... B29: 20 | D29: 20 / / | AF29: 40 | AH29: 20 / /
AW31: 次ページ | BD31: □有

Sheet 10.負担軽減費 振込口座
B2: 治験参加者 様
B3: 治験を参加するにあたり、負担軽減費の支払いは、銀行振込とさせて頂いております。その為、負担軽減費の振込口座として、下記の太線枠内をご記入下さい。また、振込口座を変更される場合は、事前にご連絡頂きますよう、宜しくお願い致します。
Q6: 藤田医科大学 治験・臨床研究支援センター
B9: 負担軽減費 振込口座
B10: 被験薬記号 | G10: ='1.説明事項 治験情報'!E26 -> 0 | U10: 整理番号 | Y10: ='1.説明事項 治験情報'!E25 -> 0
B11: 治験課題名 | G11: ='1.説明事項 治験情報'!E29 -> 0
B14: 患者氏名 （患者ID) | G14: ='1.説明事項 治験情報'!E49 -> 0 | S14: 様 | U14: 被験者識別 コード | Y14: ='1.説明事項 治験情報'!E51 -> 0
H15: （ | I15: ='1.説明事項 治験情報'!E50 -> 0 | S15: ）
B16: 振込金額 | G16: 1回の来院につき 10,000 円 × 来院回数
B17: 振込口座 | G17: 金融機関名 | K17: 銀行名
X18: □銀行
X20: □信金 □信組 □農協 □その他
K22: 支店名 （支店コード）
G23: 口座種類 | K23: 普通口座（総合口座を含む）
G24: 口座番号
G25: 口座名義 | K25: フリガナ
B27: 連絡先 （電話番号）
B29: 上記治験の参加に伴う「負担軽減費」の振り込みには、上記の金融機関の口座にお振込みください。
K31: 記入日 | R31: （西暦） 年 月 日
K32: 請求者氏名（自筆）
